BEGIN:VCALENDAR
VERSION:2.0
PRODID:-//Côr Meibion Morlais - ECPv6.1.3//NONSGML v1.0//EN
CALSCALE:GREGORIAN
METHOD:PUBLISH
X-WR-CALNAME:Côr Meibion Morlais
X-ORIGINAL-URL:https://www.cor-meibion-morlais.org.uk
X-WR-CALDESC:Events for Côr Meibion Morlais
REFRESH-INTERVAL;VALUE=DURATION:PT1H
X-Robots-Tag:noindex
X-PUBLISHED-TTL:PT1H
BEGIN:VTIMEZONE
TZID:Europe/London
BEGIN:DAYLIGHT
TZOFFSETFROM:+0000
TZOFFSETTO:+0100
TZNAME:BST
DTSTART:20250330T010000
END:DAYLIGHT
BEGIN:STANDARD
TZOFFSETFROM:+0100
TZOFFSETTO:+0000
TZNAME:GMT
DTSTART:20251026T010000
END:STANDARD
END:VTIMEZONE
BEGIN:VEVENT
DTSTART;TZID=Europe/London:20250527T143000
DTEND;TZID=Europe/London:20250527T153000
DTSTAMP:20260422T133143
CREATED:20250328T105117Z
LAST-MODIFIED:20250328T105504Z
UID:2811-1748356200-1748359800@www.cor-meibion-morlais.org.uk
SUMMARY:Visit to the Morlais Hall by the Yale University Concert Band
DESCRIPTION:We are proud to host the University Band and we will be showing them the Hall and the exhibits of our nearly 100 year history here.
URL:https://www.cor-meibion-morlais.org.uk/event/visit-to-the-morlais-hall-by-the-yale-university-concert-band/
LOCATION:The Morlais Hall\, North Road\, Ferndale\, Rhondda\, CF43 4PS\, United Kingdom
CATEGORIES:Choir Events,Morlais Hall,Private Engagements
END:VEVENT
END:VCALENDAR