BEGIN:VCALENDAR
VERSION:2.0
PRODID:-//Côr Meibion Morlais - ECPv6.1.3//NONSGML v1.0//EN
CALSCALE:GREGORIAN
METHOD:PUBLISH
X-ORIGINAL-URL:https://www.cor-meibion-morlais.org.uk
X-WR-CALDESC:Events for Côr Meibion Morlais
REFRESH-INTERVAL;VALUE=DURATION:PT1H
X-Robots-Tag:noindex
X-PUBLISHED-TTL:PT1H
BEGIN:VTIMEZONE
TZID:Europe/London
BEGIN:DAYLIGHT
TZOFFSETFROM:+0000
TZOFFSETTO:+0100
TZNAME:BST
DTSTART:20250330T010000
END:DAYLIGHT
BEGIN:STANDARD
TZOFFSETFROM:+0100
TZOFFSETTO:+0000
TZNAME:GMT
DTSTART:20251026T010000
END:STANDARD
END:VTIMEZONE
BEGIN:VEVENT
DTSTART;TZID=Europe/London:20250530T080000
DTEND;TZID=Europe/London:20250530T170000
DTSTAMP:20260422T133243
CREATED:20250530T120925Z
LAST-MODIFIED:20250530T120925Z
UID:2826-1748592000-1748624400@www.cor-meibion-morlais.org.uk
SUMMARY:Rehearsal in Porth Harlequins
DESCRIPTION:
URL:https://www.cor-meibion-morlais.org.uk/event/rehearsal-in-porth-harlequins/
END:VEVENT
END:VCALENDAR