BEGIN:VCALENDAR
VERSION:2.0
PRODID:-//Côr Meibion Morlais - ECPv6.1.3//NONSGML v1.0//EN
CALSCALE:GREGORIAN
METHOD:PUBLISH
X-ORIGINAL-URL:https://www.cor-meibion-morlais.org.uk
X-WR-CALDESC:Events for Côr Meibion Morlais
REFRESH-INTERVAL;VALUE=DURATION:PT1H
X-Robots-Tag:noindex
X-PUBLISHED-TTL:PT1H
BEGIN:VTIMEZONE
TZID:Europe/London
BEGIN:DAYLIGHT
TZOFFSETFROM:+0000
TZOFFSETTO:+0100
TZNAME:BST
DTSTART:20250330T010000
END:DAYLIGHT
BEGIN:STANDARD
TZOFFSETFROM:+0100
TZOFFSETTO:+0000
TZNAME:GMT
DTSTART:20251026T010000
END:STANDARD
END:VTIMEZONE
BEGIN:VEVENT
DTSTART;TZID=Europe/London:20250905T190000
DTEND;TZID=Europe/London:20250905T200000
DTSTAMP:20260422T081911
CREATED:20250717T153425Z
LAST-MODIFIED:20250717T153425Z
UID:2844-1757098800-1757102400@www.cor-meibion-morlais.org.uk
SUMMARY:Meadowlands Care Home Aberdare
DESCRIPTION:We will be visiting Meadowlands Care Home to sing for the residents. This is as a direct result of us receiving funding from RCT under the \nUKG SPF RCTCBC Summer Activities Micro Grant
URL:https://www.cor-meibion-morlais.org.uk/event/meadowlands-care-home-aberdare/
LOCATION:Meadowlands\, Abernant Road\,\, Aberdare\, CF44 0PY\, United Kingdom
CATEGORIES:Choir Events,Concerts
END:VEVENT
END:VCALENDAR