BEGIN:VCALENDAR
VERSION:2.0
PRODID:-//Côr Meibion Morlais - ECPv6.1.3//NONSGML v1.0//EN
CALSCALE:GREGORIAN
METHOD:PUBLISH
X-WR-CALNAME:Côr Meibion Morlais
X-ORIGINAL-URL:https://www.cor-meibion-morlais.org.uk
X-WR-CALDESC:Events for Côr Meibion Morlais
REFRESH-INTERVAL;VALUE=DURATION:PT1H
X-Robots-Tag:noindex
X-PUBLISHED-TTL:PT1H
BEGIN:VTIMEZONE
TZID:Europe/London
BEGIN:DAYLIGHT
TZOFFSETFROM:+0000
TZOFFSETTO:+0100
TZNAME:BST
DTSTART:20250330T010000
END:DAYLIGHT
BEGIN:STANDARD
TZOFFSETFROM:+0100
TZOFFSETTO:+0000
TZNAME:GMT
DTSTART:20251026T010000
END:STANDARD
END:VTIMEZONE
BEGIN:VEVENT
DTSTART;TZID=Europe/London:20251218T190000
DTEND;TZID=Europe/London:20251218T210000
DTSTAMP:20260422T025725
CREATED:20250705T093130Z
LAST-MODIFIED:20250929T121145Z
UID:2834-1766084400-1766091600@www.cor-meibion-morlais.org.uk
SUMMARY:Christmas Carol Concert with Ynyshir Band and the Children of Ynyshir School
DESCRIPTION:We are currently speaking with various parties reference a return to the former St Annes Church and a celebration of Christmas.More information when we have it…..
URL:https://www.cor-meibion-morlais.org.uk/event/christmas-carol-concert-with-ynyshir-band-and-the-children-of-ynyshir-school/
LOCATION:Ynys Y Cwtsh (formely St Annes)\, Church Terrace\, Ynyshir\, CF39 0HE\, United Kingdom
CATEGORIES:Choir Events,Concerts
END:VEVENT
END:VCALENDAR