BEGIN:VCALENDAR
VERSION:2.0
PRODID:-//Côr Meibion Morlais - ECPv6.1.3//NONSGML v1.0//EN
CALSCALE:GREGORIAN
METHOD:PUBLISH
X-WR-CALNAME:Côr Meibion Morlais
X-ORIGINAL-URL:https://www.cor-meibion-morlais.org.uk
X-WR-CALDESC:Events for Côr Meibion Morlais
REFRESH-INTERVAL;VALUE=DURATION:PT1H
X-Robots-Tag:noindex
X-PUBLISHED-TTL:PT1H
BEGIN:VTIMEZONE
TZID:Europe/London
BEGIN:DAYLIGHT
TZOFFSETFROM:+0000
TZOFFSETTO:+0100
TZNAME:BST
DTSTART:20250330T010000
END:DAYLIGHT
BEGIN:STANDARD
TZOFFSETFROM:+0100
TZOFFSETTO:+0000
TZNAME:GMT
DTSTART:20251026T010000
END:STANDARD
END:VTIMEZONE
BEGIN:VEVENT
DTSTART;TZID=Europe/London:20251220T100000
DTEND;TZID=Europe/London:20251220T150000
DTSTAMP:20260422T025730
CREATED:20250911T170857Z
LAST-MODIFIED:20250929T121240Z
UID:2903-1766224800-1766242800@www.cor-meibion-morlais.org.uk
SUMMARY:ASDA Tonypandy
DESCRIPTION:The Choir will be Singing Carols outside for Christmas
URL:https://www.cor-meibion-morlais.org.uk/event/asda-tonypandy/
CATEGORIES:Choir Events,Concerts
END:VEVENT
END:VCALENDAR