BEGIN:VCALENDAR
VERSION:2.0
PRODID:-//Côr Meibion Morlais - ECPv6.1.3//NONSGML v1.0//EN
CALSCALE:GREGORIAN
METHOD:PUBLISH
X-ORIGINAL-URL:https://www.cor-meibion-morlais.org.uk
X-WR-CALDESC:Events for Côr Meibion Morlais
REFRESH-INTERVAL;VALUE=DURATION:PT1H
X-Robots-Tag:noindex
X-PUBLISHED-TTL:PT1H
BEGIN:VTIMEZONE
TZID:Europe/London
BEGIN:DAYLIGHT
TZOFFSETFROM:+0000
TZOFFSETTO:+0100
TZNAME:BST
DTSTART:20260329T010000
END:DAYLIGHT
BEGIN:STANDARD
TZOFFSETFROM:+0100
TZOFFSETTO:+0000
TZNAME:GMT
DTSTART:20261025T010000
END:STANDARD
END:VTIMEZONE
BEGIN:VEVENT
DTSTART;TZID=Europe/London:20260227T133000
DTEND;TZID=Europe/London:20260227T140000
DTSTAMP:20260421T213531
CREATED:20260217T134304Z
LAST-MODIFIED:20260217T134304Z
UID:2932-1772199000-1772200800@www.cor-meibion-morlais.org.uk
SUMMARY:Maerdy Primary School
DESCRIPTION:We sing for the pupils at their St Davids Day Concert
URL:https://www.cor-meibion-morlais.org.uk/event/maerdy-primary-school/
CATEGORIES:Choir Events,Concerts
END:VEVENT
END:VCALENDAR