BEGIN:VCALENDAR
VERSION:2.0
PRODID:-//Côr Meibion Morlais - ECPv6.1.3//NONSGML v1.0//EN
CALSCALE:GREGORIAN
METHOD:PUBLISH
X-ORIGINAL-URL:https://www.cor-meibion-morlais.org.uk
X-WR-CALDESC:Events for Côr Meibion Morlais
REFRESH-INTERVAL;VALUE=DURATION:PT1H
X-Robots-Tag:noindex
X-PUBLISHED-TTL:PT1H
BEGIN:VTIMEZONE
TZID:Europe/London
BEGIN:DAYLIGHT
TZOFFSETFROM:+0000
TZOFFSETTO:+0100
TZNAME:BST
DTSTART:20260329T010000
END:DAYLIGHT
BEGIN:STANDARD
TZOFFSETFROM:+0100
TZOFFSETTO:+0000
TZNAME:GMT
DTSTART:20261025T010000
END:STANDARD
END:VTIMEZONE
BEGIN:VEVENT
DTSTART;TZID=Europe/London:20260228T190000
DTEND;TZID=Europe/London:20260228T210000
DTSTAMP:20260421T213519
CREATED:20250717T154044Z
LAST-MODIFIED:20250717T154044Z
UID:2846-1772305200-1772312400@www.cor-meibion-morlais.org.uk
SUMMARY:St David's Day Concert at the Welfare Hall
DESCRIPTION:St David’s Day Concert with the Tylorstown Brass Band . We are planning another excellent celebration of all things Welsh with a Collaboration with our colleagues at the Welfare Hall Tylorstown.
URL:https://www.cor-meibion-morlais.org.uk/event/st-davids-day-concert-at-the-welfare-hall/
LOCATION:Tylorstown Welfare Hall\, East Road\, Tylorstown\, Rhondda\, CF43 3DA\, United Kingdom
CATEGORIES:Choir Events,Concerts
END:VEVENT
END:VCALENDAR