BEGIN:VCALENDAR
VERSION:2.0
PRODID:-//Côr Meibion Morlais - ECPv6.1.3//NONSGML v1.0//EN
CALSCALE:GREGORIAN
METHOD:PUBLISH
X-ORIGINAL-URL:https://www.cor-meibion-morlais.org.uk
X-WR-CALDESC:Events for Côr Meibion Morlais
REFRESH-INTERVAL;VALUE=DURATION:PT1H
X-Robots-Tag:noindex
X-PUBLISHED-TTL:PT1H
BEGIN:VTIMEZONE
TZID:Europe/London
BEGIN:DAYLIGHT
TZOFFSETFROM:+0000
TZOFFSETTO:+0100
TZNAME:BST
DTSTART:20260329T010000
END:DAYLIGHT
BEGIN:STANDARD
TZOFFSETFROM:+0100
TZOFFSETTO:+0000
TZNAME:GMT
DTSTART:20261025T010000
END:STANDARD
END:VTIMEZONE
BEGIN:VEVENT
DTSTART;TZID=Europe/London:20260402T110000
DTEND;TZID=Europe/London:20260402T120000
DTSTAMP:20260421T183550
CREATED:20260326T150338Z
LAST-MODIFIED:20260326T152924Z
UID:2948-1775127600-1775131200@www.cor-meibion-morlais.org.uk
SUMMARY:Sing for Dementia
DESCRIPTION:Maerdy Community Centre at 11 am and a selection of the Choir will be at this event helping with the singing and enjoying the event with the Community.
URL:https://www.cor-meibion-morlais.org.uk/event/sing-for-dementia-2/
LOCATION:Maerdy Community Centre\, Park Road\, Maerdy\, cf43 4dd\, United Kingdom
CATEGORIES:Choir Events
END:VEVENT
END:VCALENDAR