BEGIN:VCALENDAR
VERSION:2.0
PRODID:-//Côr Meibion Morlais - ECPv6.1.3//NONSGML v1.0//EN
CALSCALE:GREGORIAN
METHOD:PUBLISH
X-WR-CALNAME:Côr Meibion Morlais
X-ORIGINAL-URL:https://www.cor-meibion-morlais.org.uk
X-WR-CALDESC:Events for Côr Meibion Morlais
REFRESH-INTERVAL;VALUE=DURATION:PT1H
X-Robots-Tag:noindex
X-PUBLISHED-TTL:PT1H
BEGIN:VTIMEZONE
TZID:Europe/London
BEGIN:DAYLIGHT
TZOFFSETFROM:+0000
TZOFFSETTO:+0100
TZNAME:BST
DTSTART:20260329T010000
END:DAYLIGHT
BEGIN:STANDARD
TZOFFSETFROM:+0100
TZOFFSETTO:+0000
TZNAME:GMT
DTSTART:20261025T010000
END:STANDARD
END:VTIMEZONE
BEGIN:VEVENT
DTSTART;TZID=Europe/London:20260519T183000
DTEND;TZID=Europe/London:20260519T193000
DTSTAMP:20260421T180947
CREATED:20260326T151817Z
LAST-MODIFIED:20260326T151817Z
UID:2954-1779215400-1779219000@www.cor-meibion-morlais.org.uk
SUMMARY:YCR Ysbyty Cwm Rhondda
DESCRIPTION:We will be singing in the Foyer here for the Patients and the staff of the local hospital
URL:https://www.cor-meibion-morlais.org.uk/event/ycr-ysbyty-cwm-rhondda/
LOCATION:Ysbyty Cwm Rhondda\, Partridge Road\, Llwynypia\, Rhondda\, CF40 2LX\, United Kingdom
CATEGORIES:Choir Events
END:VEVENT
END:VCALENDAR