BEGIN:VCALENDAR
VERSION:2.0
PRODID:-//Côr Meibion Morlais - ECPv6.1.3//NONSGML v1.0//EN
CALSCALE:GREGORIAN
METHOD:PUBLISH
X-WR-CALNAME:Côr Meibion Morlais
X-ORIGINAL-URL:https://www.cor-meibion-morlais.org.uk
X-WR-CALDESC:Events for Côr Meibion Morlais
REFRESH-INTERVAL;VALUE=DURATION:PT1H
X-Robots-Tag:noindex
X-PUBLISHED-TTL:PT1H
BEGIN:VTIMEZONE
TZID:Europe/London
BEGIN:DAYLIGHT
TZOFFSETFROM:+0000
TZOFFSETTO:+0100
TZNAME:BST
DTSTART:20260329T010000
END:DAYLIGHT
BEGIN:STANDARD
TZOFFSETFROM:+0100
TZOFFSETTO:+0000
TZNAME:GMT
DTSTART:20261025T010000
END:STANDARD
END:VTIMEZONE
BEGIN:VEVENT
DTSTART;TZID=Europe/London:20261205T190000
DTEND;TZID=Europe/London:20261205T210000
DTSTAMP:20260422T064419
CREATED:20260326T160156Z
LAST-MODIFIED:20260326T160156Z
UID:2967-1796497200-1796504400@www.cor-meibion-morlais.org.uk
SUMMARY:Christmas Concert with Dare to Sing
DESCRIPTION:We have been asked to join our friends Dare to Sing in a Concert to celebrate christmas t the Green Street Chapel in aberdare
URL:https://www.cor-meibion-morlais.org.uk/event/christmas-concert-with-dare-to-sing/
CATEGORIES:Choir Events
END:VEVENT
END:VCALENDAR