BEGIN:VCALENDAR
VERSION:2.0
PRODID:-//Côr Meibion Morlais - ECPv6.1.3//NONSGML v1.0//EN
CALSCALE:GREGORIAN
METHOD:PUBLISH
X-WR-CALNAME:Côr Meibion Morlais
X-ORIGINAL-URL:https://www.cor-meibion-morlais.org.uk
X-WR-CALDESC:Events for Côr Meibion Morlais
REFRESH-INTERVAL;VALUE=DURATION:PT1H
X-Robots-Tag:noindex
X-PUBLISHED-TTL:PT1H
BEGIN:VTIMEZONE
TZID:Europe/London
BEGIN:DAYLIGHT
TZOFFSETFROM:+0000
TZOFFSETTO:+0100
TZNAME:BST
DTSTART:20270328T010000
END:DAYLIGHT
BEGIN:STANDARD
TZOFFSETFROM:+0100
TZOFFSETTO:+0000
TZNAME:GMT
DTSTART:20271031T010000
END:STANDARD
END:VTIMEZONE
BEGIN:VEVENT
DTSTART;VALUE=DATE:20270508
DTEND;VALUE=DATE:20270509
DTSTAMP:20260422T115205
CREATED:20260326T154332Z
LAST-MODIFIED:20260326T154332Z
UID:2960-1809734400-1809820799@www.cor-meibion-morlais.org.uk
SUMMARY:World Choir Event
DESCRIPTION:This will be held in the Principality Stadium on the weekend of the 6th tp the 9th of May 2027
URL:https://www.cor-meibion-morlais.org.uk/event/world-choir-event/
LOCATION:The Principality Stadium\, Westgate Street\, Cardiff\, CF10 1NS\, United Kingdom
CATEGORIES:Choir Events
END:VEVENT
END:VCALENDAR