BEGIN:VCALENDAR
VERSION:2.0
PRODID:-//Côr Meibion Morlais - ECPv6.1.3//NONSGML v1.0//EN
CALSCALE:GREGORIAN
METHOD:PUBLISH
X-ORIGINAL-URL:https://www.cor-meibion-morlais.org.uk
X-WR-CALDESC:Events for Côr Meibion Morlais
REFRESH-INTERVAL;VALUE=DURATION:PT1H
X-Robots-Tag:noindex
X-PUBLISHED-TTL:PT1H
BEGIN:VTIMEZONE
TZID:Europe/London
BEGIN:DAYLIGHT
TZOFFSETFROM:+0000
TZOFFSETTO:+0100
TZNAME:BST
DTSTART:20160327T010000
END:DAYLIGHT
BEGIN:STANDARD
TZOFFSETFROM:+0100
TZOFFSETTO:+0000
TZNAME:GMT
DTSTART:20161030T010000
END:STANDARD
END:VTIMEZONE
BEGIN:VEVENT
DTSTART;TZID=Europe/London:20161111T193000
DTEND;TZID=Europe/London:20161111T213000
DTSTAMP:20260425T214215
CREATED:20160630T153944Z
LAST-MODIFIED:20160923T152803Z
UID:1001-1478892600-1478899800@www.cor-meibion-morlais.org.uk
SUMMARY:Côr Meibion Morlais Remembrance Concert
DESCRIPTION:Côr Meibion Morlais will be holding our Annual Remembrance Day Concert\, “Lest We Forget“\,  at The Morlais Hall on Friday 11th November 2016 at 7:30pm. \nDetails to follow shortly. \n 
URL:https://www.cor-meibion-morlais.org.uk/event/2016-11-16_remembrance-concert/
LOCATION:The Morlais Hall\, North Road\, Ferndale\, Rhondda\, CF43 4PS\, United Kingdom
CATEGORIES:Choir Events,Concerts,Morlais Hall
END:VEVENT
END:VCALENDAR