BEGIN:VCALENDAR
VERSION:2.0
PRODID:-//Côr Meibion Morlais - ECPv6.1.3//NONSGML v1.0//EN
CALSCALE:GREGORIAN
METHOD:PUBLISH
X-ORIGINAL-URL:https://www.cor-meibion-morlais.org.uk
X-WR-CALDESC:Events for Côr Meibion Morlais
REFRESH-INTERVAL;VALUE=DURATION:PT1H
X-Robots-Tag:noindex
X-PUBLISHED-TTL:PT1H
BEGIN:VTIMEZONE
TZID:Europe/London
BEGIN:DAYLIGHT
TZOFFSETFROM:+0000
TZOFFSETTO:+0100
TZNAME:BST
DTSTART:20160327T010000
END:DAYLIGHT
BEGIN:STANDARD
TZOFFSETFROM:+0100
TZOFFSETTO:+0000
TZNAME:GMT
DTSTART:20161030T010000
END:STANDARD
END:VTIMEZONE
BEGIN:VEVENT
DTSTART;TZID=Europe/London:20161209T193000
DTEND;TZID=Europe/London:20161209T210000
DTSTAMP:20260425T200348
CREATED:20160923T150810Z
LAST-MODIFIED:20161209T100816Z
UID:1110-1481311800-1481317200@www.cor-meibion-morlais.org.uk
SUMMARY:Carol Concert with Darran Park Primary School
DESCRIPTION:That time of year is fast approaching\, and the Annual Christmas Carol Concert with Darran Park Primary School\, at St Dunstan’s Church\, Ferndale\, will soon be here. \n \nAdditional details visible to LOGGED IN CHORISTERS ONLY….\n\n					Member Login\n					\n						\n							Username:  \n							Password:
URL:https://www.cor-meibion-morlais.org.uk/event/2016-12-09_carolconcert/
LOCATION:St.Dunstan’s Church\, Regent Street\, Ferndale\, cf43 4hb\, United Kingdom
CATEGORIES:Choir Events,Concerts
ATTACH;FMTTYPE=image/jpeg:https://www.cor-meibion-morlais.org.uk/wp-content/uploads/2015/10/xmas-carols-7.jpg
END:VEVENT
END:VCALENDAR