BEGIN:VCALENDAR
VERSION:2.0
PRODID:-//Côr Meibion Morlais - ECPv6.1.3//NONSGML v1.0//EN
CALSCALE:GREGORIAN
METHOD:PUBLISH
X-ORIGINAL-URL:https://www.cor-meibion-morlais.org.uk
X-WR-CALDESC:Events for Côr Meibion Morlais
REFRESH-INTERVAL;VALUE=DURATION:PT1H
X-Robots-Tag:noindex
X-PUBLISHED-TTL:PT1H
BEGIN:VTIMEZONE
TZID:Europe/London
BEGIN:DAYLIGHT
TZOFFSETFROM:+0000
TZOFFSETTO:+0100
TZNAME:BST
DTSTART:20170326T010000
END:DAYLIGHT
BEGIN:STANDARD
TZOFFSETFROM:+0100
TZOFFSETTO:+0000
TZNAME:GMT
DTSTART:20171029T010000
END:STANDARD
END:VTIMEZONE
BEGIN:VEVENT
DTSTART;TZID=Europe/London:20170323T191500
DTEND;TZID=Europe/London:20170323T213000
DTSTAMP:20260425T151050
CREATED:20170105T165141Z
LAST-MODIFIED:20170317T180237Z
UID:1241-1490296500-1490304600@www.cor-meibion-morlais.org.uk
SUMMARY:Daffodil Festival
DESCRIPTION:Côr Meibion Morlais are pleased to have been asked to participate in St Dunstans’ Daffodil Festival again this year. \nTickets available from St Dunstans\, or see the Morlais’s own Gary Beach.
URL:https://www.cor-meibion-morlais.org.uk/event/2017-03-23_daffodil-festival/
LOCATION:St.Dunstan’s Church\, Regent Street\, Ferndale\, cf43 4hb\, United Kingdom
CATEGORIES:Choir Events,Concerts
END:VEVENT
END:VCALENDAR