BEGIN:VCALENDAR
VERSION:2.0
PRODID:-//Côr Meibion Morlais - ECPv6.1.3//NONSGML v1.0//EN
CALSCALE:GREGORIAN
METHOD:PUBLISH
X-WR-CALNAME:Côr Meibion Morlais
X-ORIGINAL-URL:https://www.cor-meibion-morlais.org.uk
X-WR-CALDESC:Events for Côr Meibion Morlais
REFRESH-INTERVAL;VALUE=DURATION:PT1H
X-Robots-Tag:noindex
X-PUBLISHED-TTL:PT1H
BEGIN:VTIMEZONE
TZID:Europe/London
BEGIN:DAYLIGHT
TZOFFSETFROM:+0000
TZOFFSETTO:+0100
TZNAME:BST
DTSTART:20170326T010000
END:DAYLIGHT
BEGIN:STANDARD
TZOFFSETFROM:+0100
TZOFFSETTO:+0000
TZNAME:GMT
DTSTART:20171029T010000
END:STANDARD
END:VTIMEZONE
BEGIN:VEVENT
DTSTART;TZID=Europe/London:20170707T190000
DTEND;TZID=Europe/London:20170707T210000
DTSTAMP:20260421T130326
CREATED:20170612T145358Z
LAST-MODIFIED:20170613T092817Z
UID:1317-1499454000-1499461200@www.cor-meibion-morlais.org.uk
SUMMARY:Concert at Maerdy Community Centre
DESCRIPTION:Côr Meibion Morlais will be performing at a Charity Concert in aid of the local community at Maerdy Community Centre.
URL:https://www.cor-meibion-morlais.org.uk/event/2017-07-07_concert-maerdy-community-centre/
LOCATION:Maerdy Community Centre\, Park Road\, Maerdy\, cf43 4dd\, United Kingdom
CATEGORIES:Choir Events,Concerts
END:VEVENT
END:VCALENDAR