BEGIN:VCALENDAR
VERSION:2.0
PRODID:-//Côr Meibion Morlais - ECPv6.1.3//NONSGML v1.0//EN
CALSCALE:GREGORIAN
METHOD:PUBLISH
X-WR-CALNAME:Côr Meibion Morlais
X-ORIGINAL-URL:https://www.cor-meibion-morlais.org.uk
X-WR-CALDESC:Events for Côr Meibion Morlais
REFRESH-INTERVAL;VALUE=DURATION:PT1H
X-Robots-Tag:noindex
X-PUBLISHED-TTL:PT1H
BEGIN:VTIMEZONE
TZID:Europe/London
BEGIN:DAYLIGHT
TZOFFSETFROM:+0000
TZOFFSETTO:+0100
TZNAME:BST
DTSTART:20170326T010000
END:DAYLIGHT
BEGIN:STANDARD
TZOFFSETFROM:+0100
TZOFFSETTO:+0000
TZNAME:GMT
DTSTART:20171029T010000
END:STANDARD
END:VTIMEZONE
BEGIN:VEVENT
DTSTART;TZID=Europe/London:20170714T190000
DTEND;TZID=Europe/London:20170714T210000
DTSTAMP:20260421T130326
CREATED:20170613T095022Z
LAST-MODIFIED:20170613T095739Z
UID:1328-1500058800-1500066000@www.cor-meibion-morlais.org.uk
SUMMARY:Côr Meibion Morlais Summer Concert
DESCRIPTION:Please come and join us for our Summer Concert at the Morlais Hall.\nTickets available soon from the usual places\, priced £6 each.
URL:https://www.cor-meibion-morlais.org.uk/event/2017-07-14_cmm-summer-concert/
LOCATION:The Morlais Hall\, North Road\, Ferndale\, Rhondda\, CF43 4PS\, United Kingdom
CATEGORIES:Choir Events,Concerts,Morlais Hall
END:VEVENT
END:VCALENDAR