BEGIN:VCALENDAR
VERSION:2.0
PRODID:-//Côr Meibion Morlais - ECPv6.1.3//NONSGML v1.0//EN
CALSCALE:GREGORIAN
METHOD:PUBLISH
X-ORIGINAL-URL:https://www.cor-meibion-morlais.org.uk
X-WR-CALDESC:Events for Côr Meibion Morlais
REFRESH-INTERVAL;VALUE=DURATION:PT1H
X-Robots-Tag:noindex
X-PUBLISHED-TTL:PT1H
BEGIN:VTIMEZONE
TZID:Europe/London
BEGIN:DAYLIGHT
TZOFFSETFROM:+0000
TZOFFSETTO:+0100
TZNAME:BST
DTSTART:20170326T010000
END:DAYLIGHT
BEGIN:STANDARD
TZOFFSETFROM:+0100
TZOFFSETTO:+0000
TZNAME:GMT
DTSTART:20171029T010000
END:STANDARD
END:VTIMEZONE
BEGIN:VEVENT
DTSTART;TZID=Europe/London:20170726T173000
DTEND;TZID=Europe/London:20170726T173000
DTSTAMP:20260421T130703
CREATED:20170411T165105Z
LAST-MODIFIED:20170613T090451Z
UID:1298-1501090200-1501090200@www.cor-meibion-morlais.org.uk
SUMMARY:Welsh Proms - REHEARSAL
DESCRIPTION:Welsh Proms pre-concert rehearsal.\nSee website for full details and tickets. http://www.stdavidshallcardiff.co.uk/whats-on/welsh-proms/brass-voices/
URL:https://www.cor-meibion-morlais.org.uk/event/2017-07-26_stdavidshall-rehearsal/
LOCATION:St Davids Hall\, The Hayes\, Cardiff\, CF10 1AH\, United Kingdom
CATEGORIES:Choir Events,Concerts,Private Engagements
END:VEVENT
BEGIN:VEVENT
DTSTART;TZID=Europe/London:20170726T193000
DTEND;TZID=Europe/London:20170726T213000
DTSTAMP:20260421T130703
CREATED:20170317T175406Z
LAST-MODIFIED:20170411T170104Z
UID:1279-1501097400-1501104600@www.cor-meibion-morlais.org.uk
SUMMARY:Welsh Proms - Brass & Voices
DESCRIPTION:Côr Meibion Morlais will be taking part in the Welsh Proms at St David’s Hall\, Cardiff\, featuring the Cory Band with a Massed Male Voice Choir\, conducted by Owain Arwel Hughes CBE. \nLogged in Morlais Choristers have access to additional details here….\n\n					Member Login\n					\n						\n							Username:  \n							Password:  \n							\n							\n						\n					\n				 \nOwain Arwel Hughes leads the Welsh Proms Massed Male Choir with Wales and the world’s number one brass band\, the Cory Band\, in a rousing evening of the great Welsh hymns\, opera choruses and favourite classical works. \nProgramme to include: \nVerdi: The Force of Destiny\, Overture\nWagner: Rienzi\, Roman War Song\nThomas: Llanfair\nArnold: Scottish Dances [Excerpts]\nColeman: The Rhythm of Life\nMussorgsky: Boris Godunov\, Coronation Scene\nJones: Morte Christe\nHartsough: Gwahoddiad \nWagner: Lohengrin\, Procession to the Minster\nTroyte: Sunset Poem (Eli Jenkins’ Prayer)\nGounod: Faust\, Soldier’s Chorus\nRespighi: The Pines of Rome\, March (Pines of the Appian Way)\nParry: Myfanwy\nCharles: Llef\nTchaikovsky: Finale from Symphony No. 4 \nJohn Hughes: Cwm Rhondda\nArwel Hughes: Tydi A Roddaist \n\nTickets priced £7.50 to £32.00.\nSee website for full details and tickets. http://www.stdavidshallcardiff.co.uk/whats-on/welsh-proms/brass-voices/
URL:https://www.cor-meibion-morlais.org.uk/event/2017-07-26_stdavidshall/
LOCATION:St Davids Hall\, The Hayes\, Cardiff\, CF10 1AH\, United Kingdom
CATEGORIES:Choir Events,Concerts
END:VEVENT
END:VCALENDAR