BEGIN:VCALENDAR
VERSION:2.0
PRODID:-//Côr Meibion Morlais - ECPv6.1.3//NONSGML v1.0//EN
CALSCALE:GREGORIAN
METHOD:PUBLISH
X-ORIGINAL-URL:https://www.cor-meibion-morlais.org.uk
X-WR-CALDESC:Events for Côr Meibion Morlais
REFRESH-INTERVAL;VALUE=DURATION:PT1H
X-Robots-Tag:noindex
X-PUBLISHED-TTL:PT1H
BEGIN:VTIMEZONE
TZID:Europe/London
BEGIN:DAYLIGHT
TZOFFSETFROM:+0000
TZOFFSETTO:+0100
TZNAME:BST
DTSTART:20250330T010000
END:DAYLIGHT
BEGIN:STANDARD
TZOFFSETFROM:+0100
TZOFFSETTO:+0000
TZNAME:GMT
DTSTART:20251026T010000
END:STANDARD
END:VTIMEZONE
BEGIN:VEVENT
DTSTART;TZID=Europe/London:20250725T190000
DTEND;TZID=Europe/London:20250725T200000
DTSTAMP:20260422T101004
CREATED:20250710T163541Z
LAST-MODIFIED:20250710T163541Z
UID:2841-1753470000-1753473600@www.cor-meibion-morlais.org.uk
SUMMARY:Ferndale Court
DESCRIPTION:The Choir have received funding from RCT to enable us to perform in local Care homes and Hospitals under the following scheme. \nSPF\, RCT\, CBC\, Community Grant\nWe are thankful for this opportunity to sing and entertain the residents  who may be permanent or just temporary and not able to stay at home among their neighbours and friends at this time
URL:https://www.cor-meibion-morlais.org.uk/event/ferndale-court-2/
LOCATION:Ferndale Court\, Ferndale\, Rhondda\, CF43 4NB\, United Kingdom
CATEGORIES:Choir Events,Private Engagements
END:VEVENT
END:VCALENDAR