BEGIN:VCALENDAR
VERSION:2.0
PRODID:-//Côr Meibion Morlais - ECPv6.1.3//NONSGML v1.0//EN
CALSCALE:GREGORIAN
METHOD:PUBLISH
X-WR-CALNAME:Côr Meibion Morlais
X-ORIGINAL-URL:https://www.cor-meibion-morlais.org.uk
X-WR-CALDESC:Events for Côr Meibion Morlais
REFRESH-INTERVAL;VALUE=DURATION:PT1H
X-Robots-Tag:noindex
X-PUBLISHED-TTL:PT1H
BEGIN:VTIMEZONE
TZID:Europe/London
BEGIN:DAYLIGHT
TZOFFSETFROM:+0000
TZOFFSETTO:+0100
TZNAME:BST
DTSTART:20250330T010000
END:DAYLIGHT
BEGIN:STANDARD
TZOFFSETFROM:+0100
TZOFFSETTO:+0000
TZNAME:GMT
DTSTART:20251026T010000
END:STANDARD
END:VTIMEZONE
BEGIN:VEVENT
DTSTART;TZID=Europe/London:20251107T193000
DTEND;TZID=Europe/London:20251107T211500
DTSTAMP:20260422T030019
CREATED:20250328T105823Z
LAST-MODIFIED:20250929T120531Z
UID:2813-1762543800-1762550100@www.cor-meibion-morlais.org.uk
SUMMARY:Poppy Concert
DESCRIPTION:Morlais Hall on Friday the 7th November at 830pm with Gracie Harrison
URL:https://www.cor-meibion-morlais.org.uk/event/poppy-concert-3/
LOCATION:The Morlais Hall\, North Road\, Ferndale\, Rhondda\, CF43 4PS\, United Kingdom
CATEGORIES:Choir Events,Concerts,Morlais Hall
END:VEVENT
END:VCALENDAR