BEGIN:VCALENDAR
VERSION:2.0
PRODID:-//Côr Meibion Morlais - ECPv6.1.3//NONSGML v1.0//EN
CALSCALE:GREGORIAN
METHOD:PUBLISH
X-ORIGINAL-URL:https://www.cor-meibion-morlais.org.uk
X-WR-CALDESC:Events for Côr Meibion Morlais
REFRESH-INTERVAL;VALUE=DURATION:PT1H
X-Robots-Tag:noindex
X-PUBLISHED-TTL:PT1H
BEGIN:VTIMEZONE
TZID:Europe/London
BEGIN:DAYLIGHT
TZOFFSETFROM:+0000
TZOFFSETTO:+0100
TZNAME:BST
DTSTART:20260329T010000
END:DAYLIGHT
BEGIN:STANDARD
TZOFFSETFROM:+0100
TZOFFSETTO:+0000
TZNAME:GMT
DTSTART:20261025T010000
END:STANDARD
END:VTIMEZONE
BEGIN:VEVENT
DTSTART;TZID=Europe/London:20260618T080000
DTEND;TZID=Europe/London:20260618T170000
DTSTAMP:20260421T215436
CREATED:20260326T154042Z
LAST-MODIFIED:20260326T154042Z
UID:2959-1781769600-1781802000@www.cor-meibion-morlais.org.uk
SUMMARY:Oystermouth Cemetery
DESCRIPTION:We will be singing at a Service of Remembrance for the late Mrs June Walsh who resided in Florida at the time of her passing and who will be remembered by her visiting American family and her family from Swansea. \n  \nAt Oystermouth Cemetery 94 Newton Rd\, Swansea SA3 4SW
URL:https://www.cor-meibion-morlais.org.uk/event/oystermouth-cemetery/
CATEGORIES:Choir Events
END:VEVENT
END:VCALENDAR