BEGIN:VCALENDAR
VERSION:2.0
PRODID:-//Côr Meibion Morlais - ECPv6.1.3//NONSGML v1.0//EN
CALSCALE:GREGORIAN
METHOD:PUBLISH
X-WR-CALNAME:Côr Meibion Morlais
X-ORIGINAL-URL:https://www.cor-meibion-morlais.org.uk
X-WR-CALDESC:Events for Côr Meibion Morlais
REFRESH-INTERVAL;VALUE=DURATION:PT1H
X-Robots-Tag:noindex
X-PUBLISHED-TTL:PT1H
BEGIN:VTIMEZONE
TZID:Europe/London
BEGIN:DAYLIGHT
TZOFFSETFROM:+0000
TZOFFSETTO:+0100
TZNAME:BST
DTSTART:20260329T010000
END:DAYLIGHT
BEGIN:STANDARD
TZOFFSETFROM:+0100
TZOFFSETTO:+0000
TZNAME:GMT
DTSTART:20261025T010000
END:STANDARD
END:VTIMEZONE
BEGIN:VEVENT
DTSTART;TZID=Europe/London:20260904T080000
DTEND;TZID=Europe/London:20260904T170000
DTSTAMP:20260422T013658
CREATED:20260326T154633Z
LAST-MODIFIED:20260326T154633Z
UID:2961-1788508800-1788541200@www.cor-meibion-morlais.org.uk
SUMMARY:Wedding
DESCRIPTION:Caerphilly Ridgeway Golf Club \n  \nWe have been invited to sing at the Wedding Ceremony
URL:https://www.cor-meibion-morlais.org.uk/event/wedding-4/
LOCATION:Ridgeway Golf Club
CATEGORIES:Choir Events,Private Engagements
END:VEVENT
BEGIN:VEVENT
DTSTART;TZID=Europe/London:20260912T193000
DTEND;TZID=Europe/London:20260912T213000
DTSTAMP:20260422T013658
CREATED:20260217T134722Z
LAST-MODIFIED:20260217T134722Z
UID:2933-1789241400-1789248600@www.cor-meibion-morlais.org.uk
SUMMARY:Morlais Annual Concert
DESCRIPTION:We hold the Annual Concert this Year at the Morlais Hall and the Concert will feature Cheddar Male Voice Choir and a guest solo artist
URL:https://www.cor-meibion-morlais.org.uk/event/morlais-annual-concert-4/
LOCATION:The Morlais Hall\, North Road\, Ferndale\, Rhondda\, CF43 4PS\, United Kingdom
CATEGORIES:Choir Events,Concerts,Morlais Hall
END:VEVENT
END:VCALENDAR