BEGIN:VCALENDAR
VERSION:2.0
PRODID:-//Côr Meibion Morlais - ECPv6.1.3//NONSGML v1.0//EN
CALSCALE:GREGORIAN
METHOD:PUBLISH
X-WR-CALNAME:Côr Meibion Morlais
X-ORIGINAL-URL:https://www.cor-meibion-morlais.org.uk
X-WR-CALDESC:Events for Côr Meibion Morlais
REFRESH-INTERVAL;VALUE=DURATION:PT1H
X-Robots-Tag:noindex
X-PUBLISHED-TTL:PT1H
BEGIN:VTIMEZONE
TZID:Europe/London
BEGIN:DAYLIGHT
TZOFFSETFROM:+0000
TZOFFSETTO:+0100
TZNAME:BST
DTSTART:20260329T010000
END:DAYLIGHT
BEGIN:STANDARD
TZOFFSETFROM:+0100
TZOFFSETTO:+0000
TZNAME:GMT
DTSTART:20261025T010000
END:STANDARD
END:VTIMEZONE
BEGIN:VEVENT
DTSTART;TZID=Europe/London:20261003T193000
DTEND;TZID=Europe/London:20261003T213000
DTSTAMP:20260422T031619
CREATED:20260217T141340Z
LAST-MODIFIED:20260217T141340Z
UID:2936-1791055800-1791063000@www.cor-meibion-morlais.org.uk
SUMMARY:Roy Wills Commemorative Concert in Draycott Cheddar
DESCRIPTION:We are going to Draycott and we will be singing with the Cheddar Male Voice Choir at an event which is being staged on behalf of charity. The event will celebrate the life of Roy Wills who was a former Vice President of Morlais and a founder member of the Cheddar Male Voice choir.
URL:https://www.cor-meibion-morlais.org.uk/event/roy-wills-commemorative-concert-in-draycott-cheddar/
CATEGORIES:Choir Events,Concerts
END:VEVENT
BEGIN:VEVENT
DTSTART;TZID=Europe/London:20261008T190000
DTEND;TZID=Europe/London:20261008T220000
DTSTAMP:20260422T031619
CREATED:20260326T155021Z
LAST-MODIFIED:20260326T155021Z
UID:2963-1791486000-1791496800@www.cor-meibion-morlais.org.uk
SUMMARY:St Andrews Church Churcham Gloucester
DESCRIPTION:We have been asked to sing in an event created to learn about the Battle Of Rourkes Drift and other engagements around that time in South Africa
URL:https://www.cor-meibion-morlais.org.uk/event/st-andrews-church-churcham-gloucester/
CATEGORIES:Choir Events
END:VEVENT
END:VCALENDAR